BEGIN:VCALENDAR
VERSION:2.0
PRODID:-//Coalition for Sonoran Desert Protection - ECPv6.15.17.1//NONSGML v1.0//EN
CALSCALE:GREGORIAN
METHOD:PUBLISH
X-ORIGINAL-URL:https://www.sonorandesert.org
X-WR-CALDESC:Events for Coalition for Sonoran Desert Protection
REFRESH-INTERVAL;VALUE=DURATION:PT1H
X-Robots-Tag:noindex
X-PUBLISHED-TTL:PT1H
BEGIN:VTIMEZONE
TZID:America/Phoenix
BEGIN:STANDARD
TZOFFSETFROM:-0700
TZOFFSETTO:-0700
TZNAME:MST
DTSTART:20250101T000000
END:STANDARD
END:VTIMEZONE
BEGIN:VEVENT
DTSTART;TZID=America/Phoenix:20260423T090000
DTEND;TZID=America/Phoenix:20260423T120000
DTSTAMP:20260421T050010
CREATED:20260210T173705Z
LAST-MODIFIED:20260212T170401Z
UID:11746-1776934800-1776945600@www.sonorandesert.org
SUMMARY:Mailing Party
DESCRIPTION:Join us for an in-person mailing party to put together our spring fundraising letters. We need all the help we can get addressing and stuffing envelopes.  \nWHEN: Thursday\, April 23\, 9am-12pm. Stay for however long works for you!  \nWHERE: The Historic Y Courtyard\, 738 N. 5th Avenue \nPARKING: Parking is free on the 5th Avenue block to the west of The Historic Y building. If you are entering from 5th Avenue\, turn left from the lobby and then exit into the courtyard to the right at the end of the hall. You can also enter directly into the courtyard from the University Blvd. side of the building next to the Tucson Bird Alliance Nature Shop.  \nWe will have free snacks and coffee\, good vibes\, and the company of others who love the Sonoran Desert. \nPlease RSVP HERE – We can’t wait to see you!
URL:https://www.sonorandesert.org/event/mailing-party-8/
CATEGORIES:Mailing Party
END:VEVENT
END:VCALENDAR