BEGIN:VCALENDAR
VERSION:2.0
PRODID:-//Coalition for Sonoran Desert Protection - ECPv6.15.17.1//NONSGML v1.0//EN
CALSCALE:GREGORIAN
METHOD:PUBLISH
X-ORIGINAL-URL:https://www.sonorandesert.org
X-WR-CALDESC:Events for Coalition for Sonoran Desert Protection
REFRESH-INTERVAL;VALUE=DURATION:PT1H
X-Robots-Tag:noindex
X-PUBLISHED-TTL:PT1H
BEGIN:VTIMEZONE
TZID:America/Phoenix
BEGIN:STANDARD
TZOFFSETFROM:-0700
TZOFFSETTO:-0700
TZNAME:MST
DTSTART:20250101T000000
END:STANDARD
END:VTIMEZONE
BEGIN:VEVENT
DTSTART;TZID=America/Phoenix:20260307T070000
DTEND;TZID=America/Phoenix:20260307T120000
DTSTAMP:20260423T013304
CREATED:20260128T184518Z
LAST-MODIFIED:20260128T184518Z
UID:11682-1772866800-1772884800@www.sonorandesert.org
SUMMARY:Desert Fence Busters
DESCRIPTION:Get your gloves and wire cutters ready! We’ll be working on removing stretches of outdated and dangerous barbed wire fencing with the Desert Fence Busters. \nOrganizers will provide all the necessary tools as well as coffee\, snacks\, water\, and Gatorade during breaks. Please bring a reusable water bottle and coffee cup. We recommend you bring a lunch. \n\nYou can sign up today and learn more information at the Arizona Game and Fish Department website. \n\nHOW TO SIGN UP:  You will need to create an account with the Arizona Game and Fish volunteer portal (if you don’t have one already) and then sign up for this specific event.  \n1. After navigating to the event sign-up page\, click the “Respond” button in the top right corner. \n2. Click “Sign Up” to create an account and follow the required steps.  \n3. Once your account is created\, including signing the volunteer registration form\, you will be sent back to the main sign-up page. Scroll down below the photo to the section titled “Shifts.”  \n4. Click the “Respond Individually” button and sign up for the event.  \nFor folks that have not participated in one of our Desert Fence Buster Fence Removal days before\, we encourage you to check out this orientation step through the process: DESERT FENCE BUSTERS. This is not a pre-requisite to participate\, but it is helpful context on what to expect from these events. \n\nWant to learn more about the Desert Fence Busters in general? Check out this summary of their accomplishments since 2021: Desert Fence Busters – Coalition for Sonoran Desert Protection
URL:https://www.sonorandesert.org/event/desert-fence-busters-14/
CATEGORIES:Desert Fence Busters,Volunteer Event
END:VEVENT
BEGIN:VEVENT
DTSTART;TZID=America/Phoenix:20260307T130000
DTEND;TZID=America/Phoenix:20260307T143000
DTSTAMP:20260423T013304
CREATED:20260304T184212Z
LAST-MODIFIED:20260304T184350Z
UID:11909-1772888400-1772893800@www.sonorandesert.org
SUMMARY:Panel Presentation: Celebrating Women Leaders in Conservation with Carolyn Campbell
DESCRIPTION:CLR 2026 Speaker Series: Panel Presentation: Celebrating Women Leaders in Conservation with Carolyn Campbell\n \nJoin Pima County Conservation Lands and Resources (CLR) in welcoming Carolyn Campbell\, Board Member and Founder of the Coalition for Sonoran Desert Protection\, along with multiple acclaimed conservationists responsible for landmark conservation efforts\, including the internationally renowned\, award-winning Sonoran Desert Conservation Plan (SDCP)\, celebrating its 25th anniversary throughout 2026.\n\n\n\nWHEN: Saturday\, March 7\, 2026. 1:00 p.m. to 2:30 p.m. MST \n\nHistoric Canoa Ranch\nFree • Registration recommended • Walk-ins welcome\, as space permits.\nTo register: www.explore.pima.gov \n\nMore information
URL:https://www.sonorandesert.org/event/panel-presentation-celebrating-women-leaders-in-conservation-with-carolyn-campbell/
END:VEVENT
END:VCALENDAR